BEGIN:VCALENDAR
VERSION:2.0
METHOD:PUBLISH
X-WR-CALNAME:2026-2027 Bay Area Christian Schools Boys Junior Varsity Baseball
X-WR-TIMEZONE:America/Chicago
BEGIN:VEVENT
UID: d8004fa4-687e-417e-a0b1-64aea2ae63e2
DTSTART;TZID=America/Chicago:20270205T163000
DTEND;TZID=America/Chicago:20270205T183000
DTSTAMP:20270205T163000Z
LAST-MODIFIED:20260420T102105Z
LOCATION:Fort Bend Christian Academy\, 1250 7th Street\, 77478
DESCRIPTION:Boys Junior Varsity Baseball vs Fort Bend Christian Academy
SUMMARY:Boys Junior Varsity Baseball vs Fort Bend Christian Academy
URL:http://www.prepconnectmobile.com/Embed/Schedule.aspx?TeamId=017cdcfc-b44d-4fea-a293-a0df9032815a&Token=DzxC6hH3hCnGcKsgddsZye4ZXVM=
END:VEVENT
BEGIN:VEVENT
UID: 15345077-657c-434e-a431-3733aae00e22
DTSTART;TZID=America/Chicago:20270322T163000
DTEND;TZID=America/Chicago:20270322T183000
DTSTAMP:20270322T163000Z
LAST-MODIFIED:20260420T110351Z
LOCATION:Second Baptist School\, 6410 Woodway Drive\, 77057
DESCRIPTION:Boys Junior Varsity Baseball vs Second Baptist School
SUMMARY:Boys Junior Varsity Baseball vs Second Baptist School
URL:http://www.prepconnectmobile.com/Embed/Schedule.aspx?TeamId=017cdcfc-b44d-4fea-a293-a0df9032815a&Token=DzxC6hH3hCnGcKsgddsZye4ZXVM=
END:VEVENT
BEGIN:VEVENT
UID: 77efa89a-6e16-4e99-b97f-81bdf0def0d5
DTSTART;TZID=America/Chicago:20270322T183000
DTEND;TZID=America/Chicago:20270322T203000
DTSTAMP:20270322T183000Z
LAST-MODIFIED:20260420T110345Z
LOCATION:Second Baptist School\, 6410 Woodway Drive\, 77057
DESCRIPTION:Boys Junior Varsity Baseball vs Second Baptist School
SUMMARY:Boys Junior Varsity Baseball vs Second Baptist School
URL:http://www.prepconnectmobile.com/Embed/Schedule.aspx?TeamId=017cdcfc-b44d-4fea-a293-a0df9032815a&Token=DzxC6hH3hCnGcKsgddsZye4ZXVM=
END:VEVENT
BEGIN:VEVENT
UID: 2a174ad2-33bb-41b5-8539-06c3e2e64a61
DTSTART;TZID=America/Chicago:20270330T163000
DTEND;TZID=America/Chicago:20270330T183000
DTSTAMP:20270330T163000Z
LAST-MODIFIED:20260420T102148Z
LOCATION:Fort Bend Christian Academy\, 1250 7th Street\, 77478
DESCRIPTION:Boys Junior Varsity Baseball vs Fort Bend Christian Academy
SUMMARY:Boys Junior Varsity Baseball vs Fort Bend Christian Academy
URL:http://www.prepconnectmobile.com/Embed/Schedule.aspx?TeamId=017cdcfc-b44d-4fea-a293-a0df9032815a&Token=DzxC6hH3hCnGcKsgddsZye4ZXVM=
END:VEVENT
BEGIN:VEVENT
UID: debeb302-14ae-4c6a-bbfe-ccfb1c4b9783
DTSTART;TZID=America/Chicago:20270401T163000
DTEND;TZID=America/Chicago:20270401T183000
DTSTAMP:20270401T163000Z
LAST-MODIFIED:20260420T102129Z
LOCATION:Bay Area Christian School\, 4800 West Main Street\, 77573
DESCRIPTION:Boys Junior Varsity Baseball vs Fort Bend Christian Academy
SUMMARY:Boys Junior Varsity Baseball vs Fort Bend Christian Academy
URL:http://www.prepconnectmobile.com/Embed/Schedule.aspx?TeamId=017cdcfc-b44d-4fea-a293-a0df9032815a&Token=DzxC6hH3hCnGcKsgddsZye4ZXVM=
END:VEVENT
BEGIN:VEVENT
UID: 22d0f15d-1a26-4934-a4c3-6d2a0136134b
DTSTART;TZID=America/Chicago:20270406T163000
DTEND;TZID=America/Chicago:20270406T183000
DTSTAMP:20270406T163000Z
LAST-MODIFIED:20260420T104110Z
LOCATION:Bay Area Christian School\, 4800 West Main Street\, 77573
DESCRIPTION:Boys Junior Varsity Baseball vs Emery/Weiner School
SUMMARY:Boys Junior Varsity Baseball vs Emery/Weiner School
URL:http://www.prepconnectmobile.com/Embed/Schedule.aspx?TeamId=017cdcfc-b44d-4fea-a293-a0df9032815a&Token=DzxC6hH3hCnGcKsgddsZye4ZXVM=
END:VEVENT
BEGIN:VEVENT
UID: f5ad99cb-cc69-46e3-912d-85748ed157c4
DTSTART;TZID=America/Chicago:20270408T163000
DTEND;TZID=America/Chicago:20270408T183000
DTSTAMP:20270408T163000Z
LAST-MODIFIED:20260420T104124Z
LOCATION:Emery - Weiner School\, 9825 Stella Link Road\, 77025
DESCRIPTION:Boys Junior Varsity Baseball vs Emery/Weiner School
SUMMARY:Boys Junior Varsity Baseball vs Emery/Weiner School
URL:http://www.prepconnectmobile.com/Embed/Schedule.aspx?TeamId=017cdcfc-b44d-4fea-a293-a0df9032815a&Token=DzxC6hH3hCnGcKsgddsZye4ZXVM=
END:VEVENT
END:VCALENDAR