BEGIN:VCALENDAR
VERSION:2.0
METHOD:PUBLISH
X-WR-CALNAME:1977-1978 Elder High School Boys Junior Varsity Cross Country
X-WR-TIMEZONE:America/New_York
BEGIN:VEVENT
UID: eccc511e-a949-4612-b3f1-6e7954f254e5
DTSTART;TZID=America/New_York:19770910T090000
DTEND;TZID=America/New_York:19770910T110000
DTSTAMP:19770910T090000Z
LAST-MODIFIED:20260418T122107Z
LOCATION:
DESCRIPTION:Boys Junior Varsity Cross Country vs Oak Hills
SUMMARY:Boys Junior Varsity Cross Country 15 - Oak Hills 64
URL:http://www.prepconnectmobile.com/Embed/Schedule.aspx?TeamId=338d6e73-3cef-4fe1-9d93-a75eaa89f39d&Token=N8fR/hS7OmipF0n5Y61nGqJl0w81KEo=
END:VEVENT
BEGIN:VEVENT
UID: b1fd2319-c84d-4f72-b3d5-5f9a9dba6bb0
DTSTART;TZID=America/New_York:19770910T090500
DTEND;TZID=America/New_York:19770910T110500
DTSTAMP:19770910T090500Z
LAST-MODIFIED:20260418T122145Z
LOCATION:
DESCRIPTION:Boys Junior Varsity Cross Country vs Upper Arlington
SUMMARY:Boys Junior Varsity Cross Country 15 - Upper Arlington 73
URL:http://www.prepconnectmobile.com/Embed/Schedule.aspx?TeamId=338d6e73-3cef-4fe1-9d93-a75eaa89f39d&Token=N8fR/hS7OmipF0n5Y61nGqJl0w81KEo=
END:VEVENT
BEGIN:VEVENT
UID: c4bbca4f-4c6f-4549-80cb-dde5d2f6e8bc
DTSTART;TZID=America/New_York:19770910T091000
DTEND;TZID=America/New_York:19770910T111000
DTSTAMP:19770910T091000Z
LAST-MODIFIED:20260418T122203Z
LOCATION:
DESCRIPTION:Boys Junior Varsity Cross Country vs Fairmont East
SUMMARY:Boys Junior Varsity Cross Country 15 - Fairmont East 101
URL:http://www.prepconnectmobile.com/Embed/Schedule.aspx?TeamId=338d6e73-3cef-4fe1-9d93-a75eaa89f39d&Token=N8fR/hS7OmipF0n5Y61nGqJl0w81KEo=
END:VEVENT
BEGIN:VEVENT
UID: ad6ff470-e60b-4dcd-9c20-cb7923a5b7ef
DTSTART;TZID=America/New_York:19770910T100000
DTEND;TZID=America/New_York:19770910T120000
DTSTAMP:19770910T100000Z
LAST-MODIFIED:20260418T122326Z
LOCATION:Colerain High School\, 8801 Cheviot Road\, 45251
DESCRIPTION:Boys Junior Varsity Cross Country vs Colerain Invitational
SUMMARY:Boys Junior Varsity Cross Country 27 - Colerain Invitational 
URL:http://www.prepconnectmobile.com/Embed/Schedule.aspx?TeamId=338d6e73-3cef-4fe1-9d93-a75eaa89f39d&Token=N8fR/hS7OmipF0n5Y61nGqJl0w81KEo=
END:VEVENT
BEGIN:VEVENT
UID: 5bb9c1fb-5016-4f94-aa2e-6ab11a3d8851
DTSTART;TZID=America/New_York:19770913T040000
DTEND;TZID=America/New_York:19770913T060000
DTSTAMP:19770913T040000Z
LAST-MODIFIED:20260418T122557Z
LOCATION:
DESCRIPTION:Boys Junior Varsity Cross Country vs Moeller
SUMMARY:Boys Junior Varsity Cross Country 15 - Moeller 49
URL:http://www.prepconnectmobile.com/Embed/Schedule.aspx?TeamId=338d6e73-3cef-4fe1-9d93-a75eaa89f39d&Token=N8fR/hS7OmipF0n5Y61nGqJl0w81KEo=
END:VEVENT
BEGIN:VEVENT
UID: c67d6e68-aa10-4b10-812e-059c694079aa
DTSTART;TZID=America/New_York:19770917T100000
DTEND;TZID=America/New_York:19770917T120000
DTSTAMP:19770917T100000Z
LAST-MODIFIED:20260418T122523Z
LOCATION:Covington Catholic\, 1600 Dixie Hwy\, 41011
DESCRIPTION:Boys Junior Varsity Cross Country vs Covington Catholic Invitational
SUMMARY:Boys Junior Varsity Cross Country vs Covington Catholic Invitational
URL:http://www.prepconnectmobile.com/Embed/Schedule.aspx?TeamId=338d6e73-3cef-4fe1-9d93-a75eaa89f39d&Token=N8fR/hS7OmipF0n5Y61nGqJl0w81KEo=
END:VEVENT
BEGIN:VEVENT
UID: 731dcabf-6f61-479f-af74-3f67ebb36844
DTSTART;TZID=America/New_York:19770917T100000
DTEND;TZID=America/New_York:19770917T120000
DTSTAMP:19770917T100000Z
LAST-MODIFIED:20260418T123122Z
LOCATION:Roger Bacon High School\, 4320 Vine Street\, 45217
DESCRIPTION:Boys Junior Varsity Cross Country vs Spartan Relays
SUMMARY:Boys Junior Varsity Cross Country vs Spartan Relays
URL:http://www.prepconnectmobile.com/Embed/Schedule.aspx?TeamId=338d6e73-3cef-4fe1-9d93-a75eaa89f39d&Token=N8fR/hS7OmipF0n5Y61nGqJl0w81KEo=
END:VEVENT
BEGIN:VEVENT
UID: 1405b9cb-cdc1-4ef2-8282-43dc44220f40
DTSTART;TZID=America/New_York:19770924T100000
DTEND;TZID=America/New_York:19770924T120000
DTSTAMP:19770924T100000Z
LAST-MODIFIED:20260418T122811Z
LOCATION:
DESCRIPTION:Boys Junior Varsity Cross Country vs Strongsville Invitational
SUMMARY:Boys Junior Varsity Cross Country 15 - Strongsville Invitational 
URL:http://www.prepconnectmobile.com/Embed/Schedule.aspx?TeamId=338d6e73-3cef-4fe1-9d93-a75eaa89f39d&Token=N8fR/hS7OmipF0n5Y61nGqJl0w81KEo=
END:VEVENT
BEGIN:VEVENT
UID: fcaf31c1-4fcf-441e-95fd-a662512082a9
DTSTART;TZID=America/New_York:19771008T100000
DTEND;TZID=America/New_York:19771008T120000
DTSTAMP:19771008T100000Z
LAST-MODIFIED:20260418T123210Z
LOCATION:Rapid Run\, Glenway Avenue & Rapid Run Road\, 45238
DESCRIPTION:Boys Junior Varsity Cross Country vs Elder Relays
SUMMARY:Boys Junior Varsity Cross Country vs Elder Relays
URL:http://www.prepconnectmobile.com/Embed/Schedule.aspx?TeamId=338d6e73-3cef-4fe1-9d93-a75eaa89f39d&Token=N8fR/hS7OmipF0n5Y61nGqJl0w81KEo=
END:VEVENT
BEGIN:VEVENT
UID: 0f91bc94-68ed-4fad-be7c-8259c7fe66b8
DTSTART;TZID=America/New_York:19771011T100000
DTEND;TZID=America/New_York:19771011T120000
DTSTAMP:19771011T100000Z
LAST-MODIFIED:20260418T122648Z
LOCATION:Rapid Run\, Glenway Avenue & Rapid Run Road\, 45238
DESCRIPTION:Boys Junior Varsity Cross Country vs GCL Championships
SUMMARY:Boys Junior Varsity Cross Country 22 - GCL Championships 
URL:http://www.prepconnectmobile.com/Embed/Schedule.aspx?TeamId=338d6e73-3cef-4fe1-9d93-a75eaa89f39d&Token=N8fR/hS7OmipF0n5Y61nGqJl0w81KEo=
END:VEVENT
END:VCALENDAR