BEGIN:VCALENDAR
VERSION:2.0
METHOD:PUBLISH
X-WR-CALNAME:1978-1979 Elder High School Boys Freshman Cross Country
X-WR-TIMEZONE:America/New_York
BEGIN:VEVENT
UID: 63ba235f-208c-4e24-85c8-39296e5978ed
DTSTART;TZID=America/New_York:19780912T160000
DTEND;TZID=America/New_York:19780912T180000
DTSTAMP:19780912T160000Z
LAST-MODIFIED:20260418T215222Z
LOCATION:
DESCRIPTION:Boys Freshman Cross Country vs Norwood
SUMMARY:Boys Freshman Cross Country 22 - Norwood 35
URL:http://www.prepconnectmobile.com/Embed/Schedule.aspx?TeamId=67a3f8ed-7f38-414a-b9be-10a2b155d681&Token=pOnOtXUbBy+W1L/ffkSJd3nSd0I2
END:VEVENT
BEGIN:VEVENT
UID: 0f52c14a-0004-4a94-877b-ef426cf228ec
DTSTART;TZID=America/New_York:19780912T160500
DTEND;TZID=America/New_York:19780912T180500
DTSTAMP:19780912T160500Z
LAST-MODIFIED:20260418T215318Z
LOCATION:
DESCRIPTION:Boys Freshman Cross Country vs Anderson
SUMMARY:Boys Freshman Cross Country 22 - Anderson 
URL:http://www.prepconnectmobile.com/Embed/Schedule.aspx?TeamId=67a3f8ed-7f38-414a-b9be-10a2b155d681&Token=pOnOtXUbBy+W1L/ffkSJd3nSd0I2
END:VEVENT
BEGIN:VEVENT
UID: c97a2186-b57f-477a-b23f-5f3ed8b4aaef
DTSTART;TZID=America/New_York:19780916T090000
DTEND;TZID=America/New_York:19780916T110000
DTSTAMP:19780916T090000Z
LAST-MODIFIED:20260418T215421Z
LOCATION:Roger Bacon High School\, 4320 Vine Street\, 45217
DESCRIPTION:Boys Freshman Cross Country vs Spartan Relays
SUMMARY:Boys Freshman Cross Country 140 - Spartan Relays 
URL:http://www.prepconnectmobile.com/Embed/Schedule.aspx?TeamId=67a3f8ed-7f38-414a-b9be-10a2b155d681&Token=pOnOtXUbBy+W1L/ffkSJd3nSd0I2
END:VEVENT
BEGIN:VEVENT
UID: 62399c0e-3e0b-4d4e-a08d-c68cec5eed16
DTSTART;TZID=America/New_York:19780923T090000
DTEND;TZID=America/New_York:19780923T110000
DTSTAMP:19780923T090000Z
LAST-MODIFIED:20260418T215538Z
LOCATION:Mt. Healthy High School\, 8101 Hamilton Ave\, 45231
DESCRIPTION:Boys Freshman Cross Country vs Mt. Healthy Invitational
SUMMARY:Boys Freshman Cross Country vs Mt. Healthy Invitational
URL:http://www.prepconnectmobile.com/Embed/Schedule.aspx?TeamId=67a3f8ed-7f38-414a-b9be-10a2b155d681&Token=pOnOtXUbBy+W1L/ffkSJd3nSd0I2
END:VEVENT
BEGIN:VEVENT
UID: 36dcaf97-55fa-4cdc-82aa-6125244f80ee
DTSTART;TZID=America/New_York:19780930T090000
DTEND;TZID=America/New_York:19780930T110000
DTSTAMP:19780930T090000Z
LAST-MODIFIED:20260418T215640Z
LOCATION:
DESCRIPTION:Boys Freshman Cross Country vs Park Hills Invitational
SUMMARY:Boys Freshman Cross Country 37 - Park Hills Invitational 
URL:http://www.prepconnectmobile.com/Embed/Schedule.aspx?TeamId=67a3f8ed-7f38-414a-b9be-10a2b155d681&Token=pOnOtXUbBy+W1L/ffkSJd3nSd0I2
END:VEVENT
BEGIN:VEVENT
UID: 660f4298-a054-4e3e-8ed0-1090ab40eb51
DTSTART;TZID=America/New_York:19781007T090000
DTEND;TZID=America/New_York:19781007T110000
DTSTAMP:19781007T090000Z
LAST-MODIFIED:20260418T215740Z
LOCATION:Rapid Run\, Glenway Avenue & Rapid Run Road\, 45238
DESCRIPTION:Boys Freshman Cross Country vs Elder Relays
SUMMARY:Boys Freshman Cross Country 103 - Elder Relays 
URL:http://www.prepconnectmobile.com/Embed/Schedule.aspx?TeamId=67a3f8ed-7f38-414a-b9be-10a2b155d681&Token=pOnOtXUbBy+W1L/ffkSJd3nSd0I2
END:VEVENT
BEGIN:VEVENT
UID: 627cf4f9-6981-4a70-9145-b3022ddf241a
DTSTART;TZID=America/New_York:19781010T090000
DTEND;TZID=America/New_York:19781010T110000
DTSTAMP:19781010T090000Z
LAST-MODIFIED:20260418T215823Z
LOCATION:Rapid Run\, Glenway Avenue & Rapid Run Road\, 45238
DESCRIPTION:Boys Freshman Cross Country vs GCL Championships
SUMMARY:Boys Freshman Cross Country vs GCL Championships
URL:http://www.prepconnectmobile.com/Embed/Schedule.aspx?TeamId=67a3f8ed-7f38-414a-b9be-10a2b155d681&Token=pOnOtXUbBy+W1L/ffkSJd3nSd0I2
END:VEVENT
BEGIN:VEVENT
UID: d9932451-bae2-4eea-9640-cb888b929228
DTSTART;TZID=America/New_York:19781014T090000
DTEND;TZID=America/New_York:19781014T110000
DTSTAMP:19781014T090000Z
LAST-MODIFIED:20260418T215907Z
LOCATION:Princeton High School\, 11080 Chester Road\, 45246
DESCRIPTION:Boys Freshman Cross Country vs Princeton Invitational
SUMMARY:Boys Freshman Cross Country vs Princeton Invitational
URL:http://www.prepconnectmobile.com/Embed/Schedule.aspx?TeamId=67a3f8ed-7f38-414a-b9be-10a2b155d681&Token=pOnOtXUbBy+W1L/ffkSJd3nSd0I2
END:VEVENT
END:VCALENDAR