BEGIN:VCALENDAR
VERSION:2.0
METHOD:PUBLISH
X-WR-CALNAME:1978-1979 Elder High School Boys Varsity Cross Country
X-WR-TIMEZONE:America/New_York
BEGIN:VEVENT
UID: 27826ce4-3158-4feb-a045-24be67cfc645
DTSTART;TZID=America/New_York:19780909T090000
DTEND;TZID=America/New_York:19780909T110000
DTSTAMP:19780909T090000Z
LAST-MODIFIED:20260418T220241Z
LOCATION:
DESCRIPTION:Boys Varsity Cross Country vs Tiffin Cross Country Carnival
SUMMARY:Boys Varsity Cross Country 106 - Tiffin Cross Country Carnival 
URL:http://www.prepconnectmobile.com/Embed/Schedule.aspx?TeamId=85fd249d-4454-4843-8a30-c223c4ff5a82&Token=+eVehdanpY1yIjd0p9C5he/OgT6x
END:VEVENT
BEGIN:VEVENT
UID: 04e0c8b3-4f40-483b-9187-c5690be61e80
DTSTART;TZID=America/New_York:19781104T090500
DTEND;TZID=America/New_York:19781104T110500
DTSTAMP:19781104T090500Z
LAST-MODIFIED:20260418T220330Z
LOCATION:OSU Scarlet Course\, 3605 Tremont Rd\, 43221
DESCRIPTION:Boys Varsity Cross Country vs OHSAA State Championships
SUMMARY:Boys Varsity Cross Country 157 - OHSAA State Championships 
URL:http://www.prepconnectmobile.com/Embed/Schedule.aspx?TeamId=85fd249d-4454-4843-8a30-c223c4ff5a82&Token=+eVehdanpY1yIjd0p9C5he/OgT6x
END:VEVENT
END:VCALENDAR