BEGIN:VCALENDAR
VERSION:2.0
METHOD:PUBLISH
X-WR-CALNAME:1977-1978 Elder High School Boys Varsity Cross Country
X-WR-TIMEZONE:America/New_York
BEGIN:VEVENT
UID: 90f44e2a-0619-4799-a91f-26dfb3c49c4e
DTSTART;TZID=America/New_York:19770906T090000
DTEND;TZID=America/New_York:19770906T110000
DTSTAMP:19770906T090000Z
LAST-MODIFIED:20260418T114639Z
LOCATION:
DESCRIPTION:Boys Varsity Cross Country vs Greenhills
SUMMARY:Boys Varsity Cross Country 28 - Greenhills 45
URL:http://www.prepconnectmobile.com/Embed/Schedule.aspx?TeamId=f63311db-f7a1-466a-9dcd-3508cd7af79c&Token=7vjezXF5QRvyOXkIvhrd0dF0XyQ=
END:VEVENT
BEGIN:VEVENT
UID: fae31ea9-1203-4993-b85f-ec68ff385ca5
DTSTART;TZID=America/New_York:19770906T090500
DTEND;TZID=America/New_York:19770906T110500
DTSTAMP:19770906T090500Z
LAST-MODIFIED:20260418T114700Z
LOCATION:
DESCRIPTION:Boys Varsity Cross Country vs St. Xavier
SUMMARY:Boys Varsity Cross Country 28 - St. Xavier 61
URL:http://www.prepconnectmobile.com/Embed/Schedule.aspx?TeamId=f63311db-f7a1-466a-9dcd-3508cd7af79c&Token=7vjezXF5QRvyOXkIvhrd0dF0XyQ=
END:VEVENT
BEGIN:VEVENT
UID: 3502dcda-c034-406b-9ca3-f6242034cb3d
DTSTART;TZID=America/New_York:19770910T090000
DTEND;TZID=America/New_York:19770910T110000
DTSTAMP:19770910T090000Z
LAST-MODIFIED:20260418T114734Z
LOCATION:
DESCRIPTION:Boys Varsity Cross Country vs Oak Hills
SUMMARY:Boys Varsity Cross Country 28 - Oak Hills 51
URL:http://www.prepconnectmobile.com/Embed/Schedule.aspx?TeamId=f63311db-f7a1-466a-9dcd-3508cd7af79c&Token=7vjezXF5QRvyOXkIvhrd0dF0XyQ=
END:VEVENT
BEGIN:VEVENT
UID: 3d658e63-bfea-4837-bed3-be2a40189c7d
DTSTART;TZID=America/New_York:19770910T090500
DTEND;TZID=America/New_York:19770910T110500
DTSTAMP:19770910T090500Z
LAST-MODIFIED:20260418T114757Z
LOCATION:
DESCRIPTION:Boys Varsity Cross Country vs Fairmont East
SUMMARY:Boys Varsity Cross Country 28 - Fairmont East 70
URL:http://www.prepconnectmobile.com/Embed/Schedule.aspx?TeamId=f63311db-f7a1-466a-9dcd-3508cd7af79c&Token=7vjezXF5QRvyOXkIvhrd0dF0XyQ=
END:VEVENT
BEGIN:VEVENT
UID: ec02b11b-8693-4a25-9fda-9b8070be1c4e
DTSTART;TZID=America/New_York:19770910T091000
DTEND;TZID=America/New_York:19770910T111000
DTSTAMP:19770910T091000Z
LAST-MODIFIED:20260418T114816Z
LOCATION:
DESCRIPTION:Boys Varsity Cross Country vs Upper Arlington
SUMMARY:Boys Varsity Cross Country 28 - Upper Arlington 73
URL:http://www.prepconnectmobile.com/Embed/Schedule.aspx?TeamId=f63311db-f7a1-466a-9dcd-3508cd7af79c&Token=7vjezXF5QRvyOXkIvhrd0dF0XyQ=
END:VEVENT
BEGIN:VEVENT
UID: 32b829df-e8b0-4904-b5cd-dbf0389388d9
DTSTART;TZID=America/New_York:19770910T100000
DTEND;TZID=America/New_York:19770910T120000
DTSTAMP:19770910T100000Z
LAST-MODIFIED:20260418T115347Z
LOCATION:Colerain High School\, 8801 Cheviot Road\, 45251
DESCRIPTION:Boys Varsity Cross Country vs Colerain Invitational
SUMMARY:Boys Varsity Cross Country 199 - Colerain Invitational 
URL:http://www.prepconnectmobile.com/Embed/Schedule.aspx?TeamId=f63311db-f7a1-466a-9dcd-3508cd7af79c&Token=7vjezXF5QRvyOXkIvhrd0dF0XyQ=
END:VEVENT
BEGIN:VEVENT
UID: 715dd94d-4d2e-49b1-aed7-e0a6184e4d19
DTSTART;TZID=America/New_York:19770913T160000
DTEND;TZID=America/New_York:19770913T180000
DTSTAMP:19770913T160000Z
LAST-MODIFIED:20260418T115453Z
LOCATION:
DESCRIPTION:Boys Varsity Cross Country vs Moeller
SUMMARY:Boys Varsity Cross Country 15 - Moeller 49
URL:http://www.prepconnectmobile.com/Embed/Schedule.aspx?TeamId=f63311db-f7a1-466a-9dcd-3508cd7af79c&Token=7vjezXF5QRvyOXkIvhrd0dF0XyQ=
END:VEVENT
BEGIN:VEVENT
UID: 42202947-c817-44c9-919b-21c6a7a0d116
DTSTART;TZID=America/New_York:19770917T090000
DTEND;TZID=America/New_York:19770917T110000
DTSTAMP:19770917T090000Z
LAST-MODIFIED:20260418T115541Z
LOCATION:Covington Catholic\, 1600 Dixie Hwy\, 41011
DESCRIPTION:Boys Varsity Cross Country vs Covington Catholic Invitational
SUMMARY:Boys Varsity Cross Country 45 - Covington Catholic Invitational 
URL:http://www.prepconnectmobile.com/Embed/Schedule.aspx?TeamId=f63311db-f7a1-466a-9dcd-3508cd7af79c&Token=7vjezXF5QRvyOXkIvhrd0dF0XyQ=
END:VEVENT
BEGIN:VEVENT
UID: a39a1198-218c-46b8-8a3e-a00db7c52bb2
DTSTART;TZID=America/New_York:19770917T100000
DTEND;TZID=America/New_York:19770917T120000
DTSTAMP:19770917T100000Z
LAST-MODIFIED:20260418T115654Z
LOCATION:Roger Bacon High School\, 4320 Vine Street\, 45217
DESCRIPTION:Boys Varsity Cross Country vs Spartan Relays
SUMMARY:Boys Varsity Cross Country 79 - Spartan Relays 
URL:http://www.prepconnectmobile.com/Embed/Schedule.aspx?TeamId=f63311db-f7a1-466a-9dcd-3508cd7af79c&Token=7vjezXF5QRvyOXkIvhrd0dF0XyQ=
END:VEVENT
BEGIN:VEVENT
UID: 11ea7ca6-8f94-454b-8bd2-2e2630cb731c
DTSTART;TZID=America/New_York:19770924T090000
DTEND;TZID=America/New_York:19770924T110000
DTSTAMP:19770924T090000Z
LAST-MODIFIED:20260418T115852Z
LOCATION:TBA\, 3900 Vincent Avenue\, 45205
DESCRIPTION:Boys Varsity Cross Country vs Strongsville Invitational
SUMMARY:Boys Varsity Cross Country 38 - Strongsville Invitational 
URL:http://www.prepconnectmobile.com/Embed/Schedule.aspx?TeamId=f63311db-f7a1-466a-9dcd-3508cd7af79c&Token=7vjezXF5QRvyOXkIvhrd0dF0XyQ=
END:VEVENT
BEGIN:VEVENT
UID: 1402922e-bbdd-4554-9bc6-ab6ff88a132f
DTSTART;TZID=America/New_York:19770924T100000
DTEND;TZID=America/New_York:19770924T120000
DTSTAMP:19770924T100000Z
LAST-MODIFIED:20260418T120010Z
LOCATION:Mt. Healthy High School\, 8101 Hamilton Ave\, 45231
DESCRIPTION:Boys Varsity Cross Country vs Mt. Healthy
SUMMARY:Boys Varsity Cross Country vs Mt. Healthy
URL:http://www.prepconnectmobile.com/Embed/Schedule.aspx?TeamId=f63311db-f7a1-466a-9dcd-3508cd7af79c&Token=7vjezXF5QRvyOXkIvhrd0dF0XyQ=
END:VEVENT
BEGIN:VEVENT
UID: ede7f4ca-bf9a-48a3-9284-4431a0bfca3b
DTSTART;TZID=America/New_York:19771001T090000
DTEND;TZID=America/New_York:19771001T110000
DTSTAMP:19771001T090000Z
LAST-MODIFIED:20260418T120153Z
LOCATION:
DESCRIPTION:Boys Varsity Cross Country vs Park Hills Invitational
SUMMARY:Boys Varsity Cross Country 91 - Park Hills Invitational 
URL:http://www.prepconnectmobile.com/Embed/Schedule.aspx?TeamId=f63311db-f7a1-466a-9dcd-3508cd7af79c&Token=7vjezXF5QRvyOXkIvhrd0dF0XyQ=
END:VEVENT
BEGIN:VEVENT
UID: 57b83823-4c0c-447b-a54b-d3c76d49a13a
DTSTART;TZID=America/New_York:19771001T100000
DTEND;TZID=America/New_York:19771001T120000
DTSTAMP:19771001T100000Z
LAST-MODIFIED:20260418T120700Z
LOCATION:
DESCRIPTION:Boys Varsity Cross Country vs Park Hills Invitational
SUMMARY:Boys Varsity Cross Country 15 - Park Hills Invitational 
URL:http://www.prepconnectmobile.com/Embed/Schedule.aspx?TeamId=f63311db-f7a1-466a-9dcd-3508cd7af79c&Token=7vjezXF5QRvyOXkIvhrd0dF0XyQ=
END:VEVENT
BEGIN:VEVENT
UID: 96fc3594-d936-4237-a9b3-fc15216de48a
DTSTART;TZID=America/New_York:19771008T090000
DTEND;TZID=America/New_York:19771008T110000
DTSTAMP:19771008T090000Z
LAST-MODIFIED:20260418T120457Z
LOCATION:Rapid Run\, Glenway Avenue & Rapid Run Road\, 45238
DESCRIPTION:Boys Varsity Cross Country vs Elder Relays
SUMMARY:Boys Varsity Cross Country vs Elder Relays
URL:http://www.prepconnectmobile.com/Embed/Schedule.aspx?TeamId=f63311db-f7a1-466a-9dcd-3508cd7af79c&Token=7vjezXF5QRvyOXkIvhrd0dF0XyQ=
END:VEVENT
BEGIN:VEVENT
UID: 02607850-169f-4f0e-a579-f2af147da873
DTSTART;TZID=America/New_York:19771011T090000
DTEND;TZID=America/New_York:19771011T110000
DTSTAMP:19771011T090000Z
LAST-MODIFIED:20260418T120553Z
LOCATION:Rapid Run\, Glenway Avenue & Rapid Run Road\, 45238
DESCRIPTION:Boys Varsity Cross Country vs GCL Championships
SUMMARY:Boys Varsity Cross Country 25 - GCL Championships 
URL:http://www.prepconnectmobile.com/Embed/Schedule.aspx?TeamId=f63311db-f7a1-466a-9dcd-3508cd7af79c&Token=7vjezXF5QRvyOXkIvhrd0dF0XyQ=
END:VEVENT
BEGIN:VEVENT
UID: ad921d2c-5dd0-4865-a050-84c56925e8f3
DTSTART;TZID=America/New_York:19771015T090000
DTEND;TZID=America/New_York:19771015T110000
DTSTAMP:19771015T090000Z
LAST-MODIFIED:20260418T120832Z
LOCATION:Princeton High School\, 11080 Chester Road\, 45246
DESCRIPTION:Boys Varsity Cross Country vs Princeton Invitational
SUMMARY:Boys Varsity Cross Country 14 - Princeton Invitational 
URL:http://www.prepconnectmobile.com/Embed/Schedule.aspx?TeamId=f63311db-f7a1-466a-9dcd-3508cd7af79c&Token=7vjezXF5QRvyOXkIvhrd0dF0XyQ=
END:VEVENT
BEGIN:VEVENT
UID: da623a76-aec0-4e1a-b90a-fa73a7b7a6bd
DTSTART;TZID=America/New_York:19771015T090500
DTEND;TZID=America/New_York:19771015T110500
DTSTAMP:19771015T090500Z
LAST-MODIFIED:20260418T121148Z
LOCATION:Princeton High School\, 11080 Chester Road\, 45246
DESCRIPTION:Boys Varsity Cross Country vs Princeton Invitational
SUMMARY:Boys Varsity Cross Country 16 - Princeton Invitational 
URL:http://www.prepconnectmobile.com/Embed/Schedule.aspx?TeamId=f63311db-f7a1-466a-9dcd-3508cd7af79c&Token=7vjezXF5QRvyOXkIvhrd0dF0XyQ=
END:VEVENT
BEGIN:VEVENT
UID: 508b868e-d5bf-4385-a4c3-070a0759e79c
DTSTART;TZID=America/New_York:19771015T100000
DTEND;TZID=America/New_York:19771015T120000
DTSTAMP:19771015T100000Z
LAST-MODIFIED:20260418T121025Z
LOCATION:Princeton High School\, 11080 Chester Road\, 45246
DESCRIPTION:Boys Varsity Cross Country vs Princeton Invitational
SUMMARY:Boys Varsity Cross Country 46 - Princeton Invitational 
URL:http://www.prepconnectmobile.com/Embed/Schedule.aspx?TeamId=f63311db-f7a1-466a-9dcd-3508cd7af79c&Token=7vjezXF5QRvyOXkIvhrd0dF0XyQ=
END:VEVENT
BEGIN:VEVENT
UID: aebd74c5-0880-4931-883a-ea68a1461c6d
DTSTART;TZID=America/New_York:19771015T100500
DTEND;TZID=America/New_York:19771015T120500
DTSTAMP:19771015T100500Z
LAST-MODIFIED:20260418T121113Z
LOCATION:Princeton High School\, 11080 Chester Road\, 45246
DESCRIPTION:Boys Varsity Cross Country vs Princeton Invitational
SUMMARY:Boys Varsity Cross Country vs Princeton Invitational
URL:http://www.prepconnectmobile.com/Embed/Schedule.aspx?TeamId=f63311db-f7a1-466a-9dcd-3508cd7af79c&Token=7vjezXF5QRvyOXkIvhrd0dF0XyQ=
END:VEVENT
BEGIN:VEVENT
UID: bacdbd59-9b13-4f0c-8204-2fa0530f2e04
DTSTART;TZID=America/New_York:19771020T040000
DTEND;TZID=America/New_York:19771020T060000
DTSTAMP:19771020T040000Z
LAST-MODIFIED:20260418T121304Z
LOCATION:Colerain High School\, 8801 Cheviot Road\, 45251
DESCRIPTION:Boys Varsity Cross Country vs Colerain
SUMMARY:Boys Varsity Cross Country 86 - Colerain 
URL:http://www.prepconnectmobile.com/Embed/Schedule.aspx?TeamId=f63311db-f7a1-466a-9dcd-3508cd7af79c&Token=7vjezXF5QRvyOXkIvhrd0dF0XyQ=
END:VEVENT
BEGIN:VEVENT
UID: 7d0833f2-00a7-4154-8818-6402ddf6fc3c
DTSTART;TZID=America/New_York:19771029T090000
DTEND;TZID=America/New_York:19771029T110000
DTSTAMP:19771029T090000Z
LAST-MODIFIED:20260418T121654Z
LOCATION:
DESCRIPTION:Boys Varsity Cross Country vs District Finals
SUMMARY:Boys Varsity Cross Country 73 - District Finals 
URL:http://www.prepconnectmobile.com/Embed/Schedule.aspx?TeamId=f63311db-f7a1-466a-9dcd-3508cd7af79c&Token=7vjezXF5QRvyOXkIvhrd0dF0XyQ=
END:VEVENT
BEGIN:VEVENT
UID: 306b6969-0d2c-4714-b5db-addef115cb53
DTSTART;TZID=America/New_York:19771103T090000
DTEND;TZID=America/New_York:19771103T110000
DTSTAMP:19771103T090000Z
LAST-MODIFIED:20260418T121747Z
LOCATION:OSU Scarlet Course\, 3605 Tremont Rd\, 43221
DESCRIPTION:Boys Varsity Cross Country vs OHSAA State Championships
SUMMARY:Boys Varsity Cross Country 200 - OHSAA State Championships 
URL:http://www.prepconnectmobile.com/Embed/Schedule.aspx?TeamId=f63311db-f7a1-466a-9dcd-3508cd7af79c&Token=7vjezXF5QRvyOXkIvhrd0dF0XyQ=
END:VEVENT
END:VCALENDAR